BEGIN:VCALENDAR
VERSION:2.0
PRODID:-//United Way of Connecticut - 211 and eLibrary - ECPv6.15.16//NONSGML v1.0//EN
CALSCALE:GREGORIAN
METHOD:PUBLISH
X-ORIGINAL-URL:https://uwc.211ct.org
X-WR-CALDESC:Events for United Way of Connecticut - 211 and eLibrary
REFRESH-INTERVAL;VALUE=DURATION:PT1H
X-Robots-Tag:noindex
X-PUBLISHED-TTL:PT1H
BEGIN:VTIMEZONE
TZID:America/New_York
BEGIN:DAYLIGHT
TZOFFSETFROM:-0500
TZOFFSETTO:-0400
TZNAME:EDT
DTSTART:20240310T070000
END:DAYLIGHT
BEGIN:STANDARD
TZOFFSETFROM:-0400
TZOFFSETTO:-0500
TZNAME:EST
DTSTART:20241103T060000
END:STANDARD
BEGIN:DAYLIGHT
TZOFFSETFROM:-0500
TZOFFSETTO:-0400
TZNAME:EDT
DTSTART:20250309T070000
END:DAYLIGHT
BEGIN:STANDARD
TZOFFSETFROM:-0400
TZOFFSETTO:-0500
TZNAME:EST
DTSTART:20251102T060000
END:STANDARD
BEGIN:DAYLIGHT
TZOFFSETFROM:-0500
TZOFFSETTO:-0400
TZNAME:EDT
DTSTART:20260308T070000
END:DAYLIGHT
BEGIN:STANDARD
TZOFFSETFROM:-0400
TZOFFSETTO:-0500
TZNAME:EST
DTSTART:20261101T060000
END:STANDARD
END:VTIMEZONE
BEGIN:VEVENT
DTSTART;TZID=America/New_York:20250604T100000
DTEND;TZID=America/New_York:20250604T130000
DTSTAMP:20260421T071556
CREATED:20250531T205808Z
LAST-MODIFIED:20250531T211840Z
UID:34335-1749031200-1749042000@uwc.211ct.org
SUMMARY:Bridgeport AJC - Job Recruitment - 6-4-2025
DESCRIPTION:There will be an on-site Job Fair at the Bridgeport American Job Center\, 2 Lafayette Square\, Bridgeport on Wednesday\, June 4\, 2025\, from 10:00am to 12:45pm. \nClick here to download and print the flyer: https://drive.google.com/file/d/1Y4BAKQWDpQ2XYGPr_lz0DxUMoQMFSYGu/view \n\n\n\n\nIf you are interested in attending this recruitment event\, you must be a registered user of CTHires to participate in this event. If you are not registered\, please visit www.CTHires.com to register as an individual prior to the event.
URL:https://uwc.211ct.org/event/bridgeport-ajc-job-recruitment-6-4-2025/
LOCATION:American Job Center – Bridgeport\, 2 Lafayette Square\, Bridgeport\, CT\, 06604\, United States
CATEGORIES:Employment
END:VEVENT
BEGIN:VEVENT
DTSTART;TZID=America/New_York:20250610T090000
DTEND;TZID=America/New_York:20250610T113000
DTSTAMP:20260421T071556
CREATED:20250602T163944Z
LAST-MODIFIED:20250602T164312Z
UID:34341-1749546000-1749555000@uwc.211ct.org
SUMMARY:Montville AJC - Job Recruitment - 6-10-2025
DESCRIPTION:Montville American Job Center presents\, “Empower to Employed\,” a job fair readiness workshop to be held Tuesday\, June 10\, from 9am-11:30am. \nThe workshop will take place at the job center\, located at 601 Norwich New London Turnpike in Uncasville. \nWorkshop leaders will offer tips\, tricks\, and time-tested activities to help job seekers prepare for a job fair or recruitment event. \nTopics include: \n\nCreating a job-fair-friendly résumé\nEffective networking and post-fair follow-up\nHow to craft an effective elevator pitch\nStrategies to handle on-the-spot applications and interviews\n….and more.\n\nHere is the link to the flyer: https://drive.google.com/file/d/1VUgeumfkZ0FMfk8AGAqnUbeFazc6_vPr/view \nClick here to register: https://www.cthires.com/vosnet/LoginIntro2.aspx?enc=vLa15KtdCzQQMP6jrcRdIQ==
URL:https://uwc.211ct.org/event/montville-ajc-job-recruitment-6-10-2025/
LOCATION:American Job Center – Montville\, 601 Norwich-New London Turnpike\, Suite 1\, Uncasville\, CT\, 06382\, United States
CATEGORIES:Employment
END:VEVENT
BEGIN:VEVENT
DTSTART;TZID=America/New_York:20250610T100000
DTEND;TZID=America/New_York:20250610T130000
DTSTAMP:20260421T071556
CREATED:20250531T221133Z
LAST-MODIFIED:20250531T224619Z
UID:34337-1749549600-1749560400@uwc.211ct.org
SUMMARY:Tech and Healthcare - Job Fair - Hartford - 6-10-2025
DESCRIPTION:The GETHIRED Career Fair is scheduled for Tuesday\, June 10\, from 10am-1pm at the Hartford American Job Center\, in Hartford. \nEmployers with healthcare and tech positions – both in general IT and IT specific to healthcare – will attend. Jobseekers at the beginning of their careers or those exploring new options will have the opportunity to network and connect. \nThis event is free to all job seekers\, and parking is free for all employers and job seekers. \nClick the link below to register: \n\nhttps://www.tickettailor.com/events/metrohartfordalliance/1675276\n\nQuestions? Contact Maureen Jenks\, Business Partnership Coordinator/Health Care for Capital Workforce Partners at mjenks@capitalworkforce.org\, 860-899-3551. \nThis event is made possible through the efforts of the Capital Area Healthcare Partnership\, the Capital Area Tech Partnership\, the Connecticut Department of Labor\, Capital Workforce Partners\, and the Connecticut Health Council.
URL:https://uwc.211ct.org/event/tech-and-healthcare-job-fair-hartford-6-10-2025/
LOCATION:American Job Center – Hartford\, 60 Weston Street\, Hartford\, CT\, 06120\, United States
CATEGORIES:Employment
END:VEVENT
BEGIN:VEVENT
DTSTART;TZID=America/New_York:20250612T103000
DTEND;TZID=America/New_York:20250612T130000
DTSTAMP:20260421T071556
CREATED:20250518T011024Z
LAST-MODIFIED:20250605T214336Z
UID:34310-1749724200-1749733200@uwc.211ct.org
SUMMARY:CCSU Statewide Career Fair - 6-12-2025
DESCRIPTION:Central Connecticut State University\, in cooperation with the Connecticut Department of Labor\, is hosting a free\, multi-employer career fair. \nThe fair will be from 10:30am to 1pm on June 12\, at Central Connecticut State University\, Alumni Hall\, 105 Ella Grasso Boulevard\, in New Britain. \nSeventy employers will attend\, offering mid-to-high-level positions. \nParticipants are asked to dress in interview attire and come prepared with resumes. \nFor more information\, email lisa.matterazzo-knowlton@ct.gov.org call 860-263-6669.
URL:https://uwc.211ct.org/event/ccsu-multi-employer-career-fair-6-12-2025/
LOCATION:Central Connecticut State University Alumni Hall/Student Center\, 105 Ella Grasso Boulevard\, New Britain\, CT\, 06050\, United States
CATEGORIES:Employment
END:VEVENT
BEGIN:VEVENT
DTSTART;TZID=America/New_York:20250618T100000
DTEND;TZID=America/New_York:20250618T130000
DTSTAMP:20260421T071556
CREATED:20250614T191009Z
LAST-MODIFIED:20250614T191058Z
UID:34368-1750240800-1750251600@uwc.211ct.org
SUMMARY:Bridgeport AJC - Job Recruitment - 6-18-2025
DESCRIPTION:Bridgeport American Job Center\, 2 Lafayette Square in Bridgeport\, will host a job fair on Wednesday\, June 18\, from 10am-12:45pm. Employers to be represented include Hartford Healthcare\, CW Resource\, ESS\, Everneat Cleaning\, Star\, Inc.\, Lighting the Way\, Mozaic Senior Life\, Allied Universal Security\, Engage Staffing\, and Senior Helpers. \nClick here to view the flyer and complete job listings: https://drive.google.com/file/d/1drtp3GgE–Uk7689CaPnz5gz8lk-nRyp/view \nParticipants must be registered users of CTHires. To register\, or for more information\, visit cthires.com.
URL:https://uwc.211ct.org/event/bridgeport-ajc-job-recruitment-6-18-2025/
LOCATION:American Job Center – Bridgeport\, 2 Lafayette Square\, Bridgeport\, CT\, 06604\, United States
CATEGORIES:Employment
END:VEVENT
BEGIN:VEVENT
DTSTART;TZID=America/New_York:20250625T100000
DTEND;TZID=America/New_York:20250625T120000
DTSTAMP:20260421T071556
CREATED:20250617T204919Z
LAST-MODIFIED:20250617T204930Z
UID:34377-1750845600-1750852800@uwc.211ct.org
SUMMARY:Montville AJC - Job Recruitment - 6-25-2025
DESCRIPTION:The Montville American Job Center will host a multi-employer job fair on Wednesday\, June 25\, from 10am-12:30pm\, at 601 Norwich-New London turnpike in Uncasville. \nEmployers representing the following industry sectors will attend:\nManufacturing\nMarketing\nCarpentry\nWelding\nPersonal Care\nHousekeeping\nEducation\n… and more \nTo view the flyer\, click here: https://drive.google.com/file/d/1DLFaZDpr71X1nxtJDkl7EmARby2i220C/view \nTo view the list of companies and positions\, click here: https://drive.google.com/file/d/1QgyB3IQq1AP-QAeFs3bOIpsBNblkUtjB/view
URL:https://uwc.211ct.org/event/montville-ajc-job-recruitment-6-25-2025/
LOCATION:American Job Center – Montville\, 601 Norwich-New London Turnpike\, Suite 1\, Uncasville\, CT\, 06382\, United States
CATEGORIES:Employment
END:VEVENT
BEGIN:VEVENT
DTSTART;TZID=America/New_York:20250625T100000
DTEND;TZID=America/New_York:20250625T140000
DTSTAMP:20260421T071556
CREATED:20250617T213702Z
LAST-MODIFIED:20250617T213721Z
UID:34378-1750845600-1750860000@uwc.211ct.org
SUMMARY:Lower Valley Job Fair\, in Ansonia - 6-25-2025
DESCRIPTION:The Lower Valley Job Fair\, sponsored by State Representative Kara Rochelle\, will take place from 10am-2pm\, Wednesday\, June 25\, at Ansonia High School\, 20 Pulaski Highway\, in Ansonia. \nOpportunities are available in: Healthcare\, Manufacturing\, Education\, Transportation\, Banking\, Social Services\, and Construction. \nParticipants can avail themselves of the following guidance and resources: Free LinkedIn headshots\, Resume and Interview Coaching\, Apprenticeship and Education\, Program Information. \nMore than 50 employers are expected to attend. \nClick here to view the flyer: https://drive.google.com/file/d/18Y5ImeqnO-KxtzMhIogR0ep4Uzsx_66m/view
URL:https://uwc.211ct.org/event/lower-valley-job-fair-in-ansonia-6-25-2025/
LOCATION:Ansonia High School\, 20 Pulaski Highway\, Ansonia\, CT\, 06401\, United States
CATEGORIES:Employment
END:VEVENT
BEGIN:VEVENT
DTSTART;TZID=America/New_York:20250625T110000
DTEND;TZID=America/New_York:20250625T130000
DTSTAMP:20260421T071556
CREATED:20250609T212847Z
LAST-MODIFIED:20250609T212924Z
UID:34362-1750849200-1750856400@uwc.211ct.org
SUMMARY:New Haven Career Fair - 6-25-2025
DESCRIPTION:Transportation\, distribution\, and logistics will be the business sectors represented at a job fair to be held Wednesday\, June 25 from 11am-1pm at the United Way of Greater New Haven\, 370 James Street\, in New Haven. \nClick here to download and print the flyer: https://drive.google.com/file/d/1hVNqtaLQ6cGpUTuuCr1D2qFI12Ql4hCQ/view \nRepresentatives from the following companies\, and the positions they are seeking to fill\, are as follows: \nBozzutto’s Inc.: \n\nWarehouse Selector\nFleet Maintenance\nOutbound Drive (P/T)\nCDL A Driver (CT and PA)\n\nDattco: \n\nSchool Bus Driver (Cheshire\, New Haven\, North Haven)\nSchool Bus Driver Trainee\, (Cheshire\, New Haven\, North Haven)\nVan Driver (New Haven\, North Haven\n\nNapa:\nWarehouse Stockroom Associate (Middletown) \nRegister in advance at www.CTHires.com or during check-in on the day of the event. For job details\, visit www.CTHires.com.
URL:https://uwc.211ct.org/event/new-haven-career-fair-6-25-2025/
LOCATION:United Way of Greater New Haven\, 370 James Street\, Ste 403\, New Haven\, CT\, 06513\, United States
CATEGORIES:Employment
END:VEVENT
BEGIN:VEVENT
DTSTART;TZID=America/New_York:20250626T100000
DTEND;TZID=America/New_York:20250626T120000
DTSTAMP:20260421T071556
CREATED:20250614T201258Z
LAST-MODIFIED:20250614T201310Z
UID:34369-1750932000-1750939200@uwc.211ct.org
SUMMARY:Waterbury AJC - Job Recruitment - 6-26-2025
DESCRIPTION:Waterbury American Job Center will host a recruitment event on Thursday\, June 26 from 10am-12pm at the Waterbury AJC\, 249 Thomaston Avenue in Waterbury. \nThe following area employers will be represented: The City of Waterbury\, ESS\, Southern New England Windows DBA Renewal by Andersen and WIS Inventory Solutions. \nClick here to download and print the flyer \nClick here to download the list of positions \nRegistration is required. To register click here.
URL:https://uwc.211ct.org/event/waterbury-ajc-job-recruitment-6-26-2025/
LOCATION:American Job Center – Waterbury\, 249 Thomaston Avenue\, Waterbury\, CT\, 06702\, United States
CATEGORIES:Employment
END:VEVENT
BEGIN:VEVENT
DTSTART;TZID=America/New_York:20250627T130000
DTEND;TZID=America/New_York:20250627T143000
DTSTAMP:20260421T071556
CREATED:20250624T194143Z
LAST-MODIFIED:20250624T200856Z
UID:34385-1751029200-1751034600@uwc.211ct.org
SUMMARY:UR Community Cares Mixer - Manchester - 6-27-2025
DESCRIPTION:UR Community Cares presents “Spheres of Support\,” a monthly social mixer open to anyone interested in meeting new people\, sharing experiences\, or simply enjoying a welcoming space. \nThe mixer begins at 1pm on June 27 at 153 Spruce Street in Manchester. \nThe come-as-you-are event focuses on positivity\, connections\, and meaningful experience. \nLight refreshments will be served. \nFor more information\, email info@urcommunitycares.org or call 860-430-4557
URL:https://uwc.211ct.org/event/ur-community-cares-mixer-manchester-6-27-2025/
LOCATION:UR Community Cares\, 153 Spruce Street\, Manchester\, CT\, 06040\, United States
CATEGORIES:Employment
END:VEVENT
END:VCALENDAR