BEGIN:VCALENDAR
VERSION:2.0
PRODID:-//United Way of Connecticut - 211 and eLibrary - ECPv6.15.16//NONSGML v1.0//EN
CALSCALE:GREGORIAN
METHOD:PUBLISH
X-ORIGINAL-URL:https://uwc.211ct.org
X-WR-CALDESC:Events for United Way of Connecticut - 211 and eLibrary
REFRESH-INTERVAL;VALUE=DURATION:PT1H
X-Robots-Tag:noindex
X-PUBLISHED-TTL:PT1H
BEGIN:VTIMEZONE
TZID:America/New_York
BEGIN:DAYLIGHT
TZOFFSETFROM:-0500
TZOFFSETTO:-0400
TZNAME:EDT
DTSTART:20240310T070000
END:DAYLIGHT
BEGIN:STANDARD
TZOFFSETFROM:-0400
TZOFFSETTO:-0500
TZNAME:EST
DTSTART:20241103T060000
END:STANDARD
BEGIN:DAYLIGHT
TZOFFSETFROM:-0500
TZOFFSETTO:-0400
TZNAME:EDT
DTSTART:20250309T070000
END:DAYLIGHT
BEGIN:STANDARD
TZOFFSETFROM:-0400
TZOFFSETTO:-0500
TZNAME:EST
DTSTART:20251102T060000
END:STANDARD
BEGIN:DAYLIGHT
TZOFFSETFROM:-0500
TZOFFSETTO:-0400
TZNAME:EDT
DTSTART:20260308T070000
END:DAYLIGHT
BEGIN:STANDARD
TZOFFSETFROM:-0400
TZOFFSETTO:-0500
TZNAME:EST
DTSTART:20261101T060000
END:STANDARD
END:VTIMEZONE
BEGIN:VEVENT
DTSTART;TZID=America/New_York:20250513T180000
DTEND;TZID=America/New_York:20250513T193000
DTSTAMP:20260420T115244
CREATED:20250510T175850Z
LAST-MODIFIED:20250510T175856Z
UID:34295-1747159200-1747164600@uwc.211ct.org
SUMMARY:Make Your Voice Heard About High Energy Costs: An Invitation from Operation Fuel to Attend an Upcoming PURA Meeting—May 13
DESCRIPTION:Operation Fuel\, a private\, nonprofit organization that provides emergency assistance for those struggling to pay their utility bills\, invites the public to attend the upcoming meeting of Connecticut’s Public Utilities Regulatory Authority (PURA). \nThe meeting will take place from 6pm-7:15pm\, May 13\, at the Ives Main Library\, 133 Elm Street in New Haven. \nThe purpose of the meeting is to hear directly from people who have been hit hardest by high energy bills. Attendees will learn about how PURA makes decisions that affect their family and quality of life and have an opportunity to share their experiences and recommendations. \nFor more information about the meeting\, including translation\, childcare\, and disability services\, please visit engagePURA.org. \nTo learn more about how Operation Fuel advocates with PURA\, visit operationfuel.org/PURA. \nQuestions? Please email Gannon Long at gannon@operationfuel.org.
URL:https://uwc.211ct.org/event/make-your-voice-heard-about-high-energy-costs-an-invitation-from-operation-fuel-to-attend-an-upcoming-pura-meeting-may-13/
LOCATION:New Haven Public Library – Ives Branch\, 133 Elm Street\, New Haven
CATEGORIES:Energy Assistance
END:VEVENT
END:VCALENDAR