BEGIN:VCALENDAR
VERSION:2.0
PRODID:-//United Way of Connecticut - 211 and eLibrary - ECPv6.15.16//NONSGML v1.0//EN
CALSCALE:GREGORIAN
METHOD:PUBLISH
X-ORIGINAL-URL:https://uwc.211ct.org
X-WR-CALDESC:Events for United Way of Connecticut - 211 and eLibrary
REFRESH-INTERVAL;VALUE=DURATION:PT1H
X-Robots-Tag:noindex
X-PUBLISHED-TTL:PT1H
BEGIN:VTIMEZONE
TZID:America/New_York
BEGIN:DAYLIGHT
TZOFFSETFROM:-0500
TZOFFSETTO:-0400
TZNAME:EDT
DTSTART:20250309T070000
END:DAYLIGHT
BEGIN:STANDARD
TZOFFSETFROM:-0400
TZOFFSETTO:-0500
TZNAME:EST
DTSTART:20251102T060000
END:STANDARD
BEGIN:DAYLIGHT
TZOFFSETFROM:-0500
TZOFFSETTO:-0400
TZNAME:EDT
DTSTART:20260308T070000
END:DAYLIGHT
BEGIN:STANDARD
TZOFFSETFROM:-0400
TZOFFSETTO:-0500
TZNAME:EST
DTSTART:20261101T060000
END:STANDARD
BEGIN:DAYLIGHT
TZOFFSETFROM:-0500
TZOFFSETTO:-0400
TZNAME:EDT
DTSTART:20270314T070000
END:DAYLIGHT
BEGIN:STANDARD
TZOFFSETFROM:-0400
TZOFFSETTO:-0500
TZNAME:EST
DTSTART:20271107T060000
END:STANDARD
END:VTIMEZONE
BEGIN:VEVENT
DTSTART;TZID=America/New_York:20260421T100000
DTEND;TZID=America/New_York:20260421T180000
DTSTAMP:20260421T044038
CREATED:20260224T170338Z
LAST-MODIFIED:20260224T170349Z
UID:36747-1776765600-1776794400@uwc.211ct.org
SUMMARY:Free Legal Clinics from the Connecticut Bar Association and Statewide Legal Services - 4-21-2026 & 4-22-2026
DESCRIPTION:The free legal clinics will be held on Tuesday\, April 21\, and Wednesday\, April 22\, from 10am to 6pm on Zoom. Pre-registration is required. Sign up by April 3. \nTo pre-register\, visit the Connecticut Bar Association website at https://ctbar.org/freelegaladviceclinics \nThere are no income or asset eligibility restrictions – the clinics are open to all Connecticut residents. In addition\, the CBA will make every effort to find an interpreter for anyone who requests that service. \nParticipants may meet with a volunteer lawyer for 30 minutes to receive free legal advice for questions about civil (not criminal) law in the following areas: \n\nDebt Collection\nEmployee Rights\nImmigration Law\nLandlord/Tenant\nFamily Law\nTax Law\nBankruptcy\nPardons\n\nVolunteer lawyers will provide brief legal advice on the date of the clinic. They will not continue to represent you\, file documents in court\, or go to court with you. \nBefore the clinic\, you will receive a call from a volunteer to learn more about your legal question. It is important that you speak to the volunteer so that the organization can match you with an attorney. \nIf you have any questions about the clinic or need help with how to use Zoom\, email FreeLegalAdviceClinic@ctbar.org or call 877-410-7221 (when leaving a message please refer to “Free Legal Advice Clinic”).
URL:https://uwc.211ct.org/event/free-legal-clinics-from-the-connecticut-bar-association-and-statewide-legal-services-4-21-2026-4-22-2026/
LOCATION:Virtual Meeting By Appointment
CATEGORIES:Legal Advise
ORGANIZER;CN="Connecticut Bar Association":MAILTO:probonoclinic@ctbar.org
END:VEVENT
END:VCALENDAR